BEGIN:VCALENDAR
VERSION:2.0
PRODID:-//10K Brewing - ECPv6.15.16//NONSGML v1.0//EN
CALSCALE:GREGORIAN
METHOD:PUBLISH
X-ORIGINAL-URL:https://10kbrew.com
X-WR-CALDESC:Events for 10K Brewing
REFRESH-INTERVAL;VALUE=DURATION:PT1H
X-Robots-Tag:noindex
X-PUBLISHED-TTL:PT1H
BEGIN:VTIMEZONE
TZID:America/Chicago
BEGIN:DAYLIGHT
TZOFFSETFROM:-0600
TZOFFSETTO:-0500
TZNAME:CDT
DTSTART:20250309T080000
END:DAYLIGHT
BEGIN:STANDARD
TZOFFSETFROM:-0500
TZOFFSETTO:-0600
TZNAME:CST
DTSTART:20251102T070000
END:STANDARD
BEGIN:DAYLIGHT
TZOFFSETFROM:-0600
TZOFFSETTO:-0500
TZNAME:CDT
DTSTART:20260308T080000
END:DAYLIGHT
BEGIN:STANDARD
TZOFFSETFROM:-0500
TZOFFSETTO:-0600
TZNAME:CST
DTSTART:20261101T070000
END:STANDARD
BEGIN:DAYLIGHT
TZOFFSETFROM:-0600
TZOFFSETTO:-0500
TZNAME:CDT
DTSTART:20270314T080000
END:DAYLIGHT
BEGIN:STANDARD
TZOFFSETFROM:-0500
TZOFFSETTO:-0600
TZNAME:CST
DTSTART:20271107T070000
END:STANDARD
END:VTIMEZONE
BEGIN:VEVENT
DTSTART;TZID=America/Chicago:20260515T190000
DTEND;TZID=America/Chicago:20260515T220000
DTSTAMP:20260424T094408
CREATED:20260423T191907Z
LAST-MODIFIED:20260423T191907Z
UID:14663-1778871600-1778882400@10kbrew.com
SUMMARY:Live Music: The Jugsluggers
DESCRIPTION:They are back!\nThe Jugsluggers are a string band trio based in South Minneapolis. Playing everything from bluegrass\, to country\, to swing\, to rockabilly\, to Appalachian fiddle tunes to jazz standards.
URL:https://10kbrew.com/event/live-music-the-jugsluggers-6/
CATEGORIES:Live Music
ATTACH;FMTTYPE=image/webp:https://10kbrew.com/wp-content/uploads/2025/12/The-Jugsluggers.png.webp
END:VEVENT
BEGIN:VEVENT
DTSTART;TZID=America/Chicago:20260516T190000
DTEND;TZID=America/Chicago:20260516T220000
DTSTAMP:20260424T094408
CREATED:20260423T191953Z
LAST-MODIFIED:20260423T191953Z
UID:14664-1778958000-1778968800@10kbrew.com
SUMMARY:Live Music: Tyler Polzin
DESCRIPTION:With over 20 years of experience performing with bands across a wide variety of genres\, Tyler Polzin brings a broad range of music to his acoustic sets. Spanning classic rock to country to pop\, and everything in between\, you’re sure to hear your favorites mixed into a musical catalog with something for everyone!
URL:https://10kbrew.com/event/live-music-tyler-polzin-2/
CATEGORIES:Live Music
ATTACH;FMTTYPE=image/jpeg:https://10kbrew.com/wp-content/uploads/2026/02/IMG_0022.jpeg
END:VEVENT
BEGIN:VEVENT
DTSTART;TZID=America/Chicago:20260517T160000
DTEND;TZID=America/Chicago:20260517T180000
DTSTAMP:20260424T094408
CREATED:20260423T185138Z
LAST-MODIFIED:20260423T185138Z
UID:14649-1779033600-1779040800@10kbrew.com
SUMMARY:Live Music: Matthew Griswold Residency
DESCRIPTION:Twin Cities Alt Folk Singer-Songwriter\, Matthew Griswold hits the Taproom stage! Join us on Sundays in May for live tunes!
URL:https://10kbrew.com/event/live-music-matthew-griswold-residency-4/
CATEGORIES:Live Music
ATTACH;FMTTYPE=image/jpeg:https://10kbrew.com/wp-content/uploads/2026/04/523972986_1188039676700728_5380190421359570374_n.jpg
END:VEVENT
BEGIN:VEVENT
DTSTART;TZID=America/Chicago:20260518T160000
DTEND;TZID=America/Chicago:20260518T210000
DTSTAMP:20260424T094408
CREATED:20250721T220930Z
LAST-MODIFIED:20250721T220930Z
UID:14310-1779120000-1779138000@10kbrew.com
SUMMARY:$5 Monday!
DESCRIPTION:$5 beers ALL day\, every Monday!
URL:https://10kbrew.com/event/5-monday-2026-05-18/
LOCATION:10K Brewing\, 2005 2nd Ave\, Anoka\, MN\, 55303\, US
END:VEVENT
BEGIN:VEVENT
DTSTART;TZID=America/Chicago:20260519T160000
DTEND;TZID=America/Chicago:20260519T210000
DTSTAMP:20260424T094408
CREATED:20260423T184248Z
LAST-MODIFIED:20260423T184248Z
UID:14644-1779206400-1779224400@10kbrew.com
SUMMARY:$6 Old Fashioned Tuesdays!
DESCRIPTION:A toast to a new tradition — $6 Old Fashioned Tuesdays!
URL:https://10kbrew.com/event/6-old-fashioned-tuesdays-29/
CATEGORIES:Happy Hour
ATTACH;FMTTYPE=image/jpeg:https://10kbrew.com/wp-content/uploads/2025/11/573619140_1273266758178019_7325408038358362665_n.jpg
END:VEVENT
BEGIN:VEVENT
DTSTART;TZID=America/Chicago:20260520T190000
DTEND;TZID=America/Chicago:20260520T210000
DTSTAMP:20260424T094408
CREATED:20260423T183901Z
LAST-MODIFIED:20260423T183901Z
UID:14640-1779303600-1779310800@10kbrew.com
SUMMARY:Weekly Trivia Mafia!
DESCRIPTION:Trivia Mafia invades the taproom Wednesday nights! Gather your friends or go solo to compete for beer\, gift cards\, and other prizes in this challenging hosted trivia night.
URL:https://10kbrew.com/event/weekly-trivia-mafia-23/
CATEGORIES:Trivia
END:VEVENT
BEGIN:VEVENT
DTSTART;TZID=America/Chicago:20260522T190000
DTEND;TZID=America/Chicago:20260522T220000
DTSTAMP:20260424T094408
CREATED:20260423T192253Z
LAST-MODIFIED:20260423T192253Z
UID:14665-1779476400-1779487200@10kbrew.com
SUMMARY:Live Music: Zander
DESCRIPTION:Alek Glauvitz\, a.k.a. Zander has been a local and touring musician\, booking agent and artist manager for the last decade. At the ripe age of 30\, Alek is diving into his career as a solo recording artist under the nickname\, “Zander\,” given to him by his friends and colleagues in the Twin Cities music scene. Alek is the supporting guitarist and backup vocalist in the Nashville based country/rock group\, Russ Parrish & The Lone oaks. He’s been touring the Midwest with his wife as Beyond The Trees acoustic duo where they’ve been featured on PBS’ Prairie Musician\, have played many St. Jude events\, and sang the National Anthem at the US Bank Stadium for the Monster Energy Motocross events. \nAlek’s debut single under the artist name\, Zander will be released Spring of 2024 titled Can’t Go to Northeast\, a silly bluegrass style song about a falling out with an old friend who once said to “Never show your face in NE again!”
URL:https://10kbrew.com/event/live-music-zander-4/
CATEGORIES:Live Music
ATTACH;FMTTYPE=image/jpeg:https://10kbrew.com/wp-content/uploads/2026/02/Alek-Headshot-Live.jpeg
END:VEVENT
BEGIN:VEVENT
DTSTART;TZID=America/Chicago:20260523T190000
DTEND;TZID=America/Chicago:20260523T220000
DTSTAMP:20260424T094408
CREATED:20260423T192710Z
LAST-MODIFIED:20260423T192710Z
UID:14666-1779562800-1779573600@10kbrew.com
SUMMARY:Live Music: Pretty Twisted
DESCRIPTION:The talented musical duo “Pretty Twisted” featuring sisters Maddy and Hannah Braun\, make their debut appearance at 10K Brewing on Saturday\, May 23rd!
URL:https://10kbrew.com/event/live-music-pretty-twisted/
CATEGORIES:Live Music
ATTACH;FMTTYPE=image/jpeg:https://10kbrew.com/wp-content/uploads/2026/04/unnamed-2.jpg
END:VEVENT
BEGIN:VEVENT
DTSTART;TZID=America/Chicago:20260524T160000
DTEND;TZID=America/Chicago:20260524T180000
DTSTAMP:20260424T094408
CREATED:20260423T185221Z
LAST-MODIFIED:20260423T185221Z
UID:14650-1779638400-1779645600@10kbrew.com
SUMMARY:Live Music: Matthew Griswold Residency
DESCRIPTION:Twin Cities Alt Folk Singer-Songwriter\, Matthew Griswold hits the Taproom stage! Join us on Sundays in May for live tunes!
URL:https://10kbrew.com/event/live-music-matthew-griswold-residency-5/
CATEGORIES:Live Music
ATTACH;FMTTYPE=image/jpeg:https://10kbrew.com/wp-content/uploads/2026/04/523972986_1188039676700728_5380190421359570374_n.jpg
END:VEVENT
BEGIN:VEVENT
DTSTART;TZID=America/Chicago:20260525T160000
DTEND;TZID=America/Chicago:20260525T210000
DTSTAMP:20260424T094408
CREATED:20250721T220930Z
LAST-MODIFIED:20250721T220930Z
UID:14311-1779724800-1779742800@10kbrew.com
SUMMARY:$5 Monday!
DESCRIPTION:$5 beers ALL day\, every Monday!
URL:https://10kbrew.com/event/5-monday-2026-05-25/
LOCATION:10K Brewing\, 2005 2nd Ave\, Anoka\, MN\, 55303\, US
END:VEVENT
BEGIN:VEVENT
DTSTART;TZID=America/Chicago:20260526T160000
DTEND;TZID=America/Chicago:20260526T210000
DTSTAMP:20260424T094408
CREATED:20260423T184336Z
LAST-MODIFIED:20260423T184336Z
UID:14645-1779811200-1779829200@10kbrew.com
SUMMARY:$6 Old Fashioned Tuesdays!
DESCRIPTION:A toast to a new tradition — $6 Old Fashioned Tuesdays!
URL:https://10kbrew.com/event/6-old-fashioned-tuesdays-30/
CATEGORIES:Happy Hour
ATTACH;FMTTYPE=image/jpeg:https://10kbrew.com/wp-content/uploads/2025/11/573619140_1273266758178019_7325408038358362665_n.jpg
END:VEVENT
BEGIN:VEVENT
DTSTART;TZID=America/Chicago:20260527T190000
DTEND;TZID=America/Chicago:20260527T210000
DTSTAMP:20260424T094408
CREATED:20260423T184015Z
LAST-MODIFIED:20260423T184015Z
UID:14641-1779908400-1779915600@10kbrew.com
SUMMARY:Weekly Trivia Mafia!
DESCRIPTION:Trivia Mafia invades the taproom Wednesday nights! Gather your friends or go solo to compete for beer\, gift cards\, and other prizes in this challenging hosted trivia night.
URL:https://10kbrew.com/event/weekly-trivia-mafia-24/
CATEGORIES:Trivia
ATTACH;FMTTYPE=image/jpeg:https://10kbrew.com/wp-content/uploads/2023/02/312446187_5726635020783077_3964488939049710410_n.jpg
END:VEVENT
BEGIN:VEVENT
DTSTART;TZID=America/Chicago:20260529T190000
DTEND;TZID=America/Chicago:20260529T220000
DTSTAMP:20260424T094408
CREATED:20260423T192952Z
LAST-MODIFIED:20260423T192952Z
UID:14668-1780081200-1780092000@10kbrew.com
SUMMARY:Live Music: Luke Bakken
DESCRIPTION:Luke Bakken is a “one man band” Modern acoustic-rock act from Monticello\, Minnesota. His incredible\, recognizable husky-rasp vocals shock listeners. The performance humbly consists of acoustic guitar\, vocals\, & Luke’s kick drum\, allowing people to feel the beat & groove. His influences include Shakey Graves\, Colter Wall\, Townes Van Zandt\, Elliot Smith\, & Johnny Cash\, to name a few.
URL:https://10kbrew.com/event/live-music-luke-bakken-4/
CATEGORIES:Live Music
ATTACH;FMTTYPE=image/jpeg:https://10kbrew.com/wp-content/uploads/2025/12/Luke-Bakken.jpg
END:VEVENT
BEGIN:VEVENT
DTSTART;TZID=America/Chicago:20260530T190000
DTEND;TZID=America/Chicago:20260530T220000
DTSTAMP:20260424T094408
CREATED:20260423T193130Z
LAST-MODIFIED:20260423T193130Z
UID:14669-1780167600-1780178400@10kbrew.com
SUMMARY:Live Music: Jay Walters & The Rectifiers
DESCRIPTION:Get rectified with upbeat blues music and set your night right!
URL:https://10kbrew.com/event/live-music-jay-walters-the-rectifiers-2/
CATEGORIES:Live Music
ATTACH;FMTTYPE=image/jpeg:https://10kbrew.com/wp-content/uploads/2025/12/Jay-Walters.jpeg
END:VEVENT
BEGIN:VEVENT
DTSTART;TZID=America/Chicago:20260531T160000
DTEND;TZID=America/Chicago:20260531T180000
DTSTAMP:20260424T094408
CREATED:20260423T185258Z
LAST-MODIFIED:20260423T185258Z
UID:14651-1780243200-1780250400@10kbrew.com
SUMMARY:Live Music: Matthew Griswold Residency
DESCRIPTION:Twin Cities Alt Folk Singer-Songwriter\, Matthew Griswold hits the Taproom stage! Join us on Sundays in May for live tunes!
URL:https://10kbrew.com/event/live-music-matthew-griswold-residency-6/
CATEGORIES:Live Music
ATTACH;FMTTYPE=image/jpeg:https://10kbrew.com/wp-content/uploads/2026/04/523972986_1188039676700728_5380190421359570374_n.jpg
END:VEVENT
BEGIN:VEVENT
DTSTART;TZID=America/Chicago:20260601T160000
DTEND;TZID=America/Chicago:20260601T210000
DTSTAMP:20260424T094408
CREATED:20250721T220930Z
LAST-MODIFIED:20250721T220930Z
UID:14312-1780329600-1780347600@10kbrew.com
SUMMARY:$5 Monday!
DESCRIPTION:$5 beers ALL day\, every Monday!
URL:https://10kbrew.com/event/5-monday-2026-06-01/
LOCATION:10K Brewing\, 2005 2nd Ave\, Anoka\, MN\, 55303\, US
END:VEVENT
BEGIN:VEVENT
DTSTART;TZID=America/Chicago:20260608T160000
DTEND;TZID=America/Chicago:20260608T210000
DTSTAMP:20260424T094408
CREATED:20250721T220930Z
LAST-MODIFIED:20250721T220930Z
UID:14313-1780934400-1780952400@10kbrew.com
SUMMARY:$5 Monday!
DESCRIPTION:$5 beers ALL day\, every Monday!
URL:https://10kbrew.com/event/5-monday-2026-06-08/
LOCATION:10K Brewing\, 2005 2nd Ave\, Anoka\, MN\, 55303\, US
END:VEVENT
BEGIN:VEVENT
DTSTART;TZID=America/Chicago:20260615T160000
DTEND;TZID=America/Chicago:20260615T210000
DTSTAMP:20260424T094408
CREATED:20250721T220930Z
LAST-MODIFIED:20250721T220930Z
UID:14314-1781539200-1781557200@10kbrew.com
SUMMARY:$5 Monday!
DESCRIPTION:$5 beers ALL day\, every Monday!
URL:https://10kbrew.com/event/5-monday-2026-06-15/
LOCATION:10K Brewing\, 2005 2nd Ave\, Anoka\, MN\, 55303\, US
END:VEVENT
BEGIN:VEVENT
DTSTART;TZID=America/Chicago:20260622T160000
DTEND;TZID=America/Chicago:20260622T210000
DTSTAMP:20260424T094408
CREATED:20250721T220930Z
LAST-MODIFIED:20250721T220930Z
UID:14315-1782144000-1782162000@10kbrew.com
SUMMARY:$5 Monday!
DESCRIPTION:$5 beers ALL day\, every Monday!
URL:https://10kbrew.com/event/5-monday-2026-06-22/
LOCATION:10K Brewing\, 2005 2nd Ave\, Anoka\, MN\, 55303\, US
END:VEVENT
BEGIN:VEVENT
DTSTART;TZID=America/Chicago:20260629T160000
DTEND;TZID=America/Chicago:20260629T210000
DTSTAMP:20260424T094408
CREATED:20250721T220930Z
LAST-MODIFIED:20250721T220930Z
UID:14316-1782748800-1782766800@10kbrew.com
SUMMARY:$5 Monday!
DESCRIPTION:$5 beers ALL day\, every Monday!
URL:https://10kbrew.com/event/5-monday-2026-06-29/
LOCATION:10K Brewing\, 2005 2nd Ave\, Anoka\, MN\, 55303\, US
END:VEVENT
BEGIN:VEVENT
DTSTART;TZID=America/Chicago:20260706T160000
DTEND;TZID=America/Chicago:20260706T210000
DTSTAMP:20260424T094408
CREATED:20250721T220930Z
LAST-MODIFIED:20250721T220930Z
UID:14317-1783353600-1783371600@10kbrew.com
SUMMARY:$5 Monday!
DESCRIPTION:$5 beers ALL day\, every Monday!
URL:https://10kbrew.com/event/5-monday-2026-07-06/
LOCATION:10K Brewing\, 2005 2nd Ave\, Anoka\, MN\, 55303\, US
END:VEVENT
BEGIN:VEVENT
DTSTART;TZID=America/Chicago:20260713T160000
DTEND;TZID=America/Chicago:20260713T210000
DTSTAMP:20260424T094408
CREATED:20250721T220930Z
LAST-MODIFIED:20250721T220930Z
UID:14318-1783958400-1783976400@10kbrew.com
SUMMARY:$5 Monday!
DESCRIPTION:$5 beers ALL day\, every Monday!
URL:https://10kbrew.com/event/5-monday-2026-07-13/
LOCATION:10K Brewing\, 2005 2nd Ave\, Anoka\, MN\, 55303\, US
END:VEVENT
BEGIN:VEVENT
DTSTART;TZID=America/Chicago:20260720T160000
DTEND;TZID=America/Chicago:20260720T210000
DTSTAMP:20260424T094408
CREATED:20250721T220930Z
LAST-MODIFIED:20251107T014049Z
UID:14319-1784563200-1784581200@10kbrew.com
SUMMARY:$5 Monday!
DESCRIPTION:$5 beers ALL day\, every Monday!
URL:https://10kbrew.com/event/5-monday-2026-07-20/
LOCATION:10K Brewing\, 2005 2nd Ave\, Anoka\, MN\, 55303\, US
END:VEVENT
BEGIN:VEVENT
DTSTART;TZID=America/Chicago:20260727T160000
DTEND;TZID=America/Chicago:20260727T210000
DTSTAMP:20260424T094408
CREATED:20250721T220930Z
LAST-MODIFIED:20250721T220930Z
UID:14320-1785168000-1785186000@10kbrew.com
SUMMARY:$5 Monday!
DESCRIPTION:$5 beers ALL day\, every Monday!
URL:https://10kbrew.com/event/5-monday-2026-07-27/
LOCATION:10K Brewing\, 2005 2nd Ave\, Anoka\, MN\, 55303\, US
END:VEVENT
BEGIN:VEVENT
DTSTART;TZID=America/Chicago:20260803T160000
DTEND;TZID=America/Chicago:20260803T210000
DTSTAMP:20260424T094408
CREATED:20250721T220930Z
LAST-MODIFIED:20250721T220930Z
UID:14321-1785772800-1785790800@10kbrew.com
SUMMARY:$5 Monday!
DESCRIPTION:$5 beers ALL day\, every Monday!
URL:https://10kbrew.com/event/5-monday-2026-08-03/
LOCATION:10K Brewing\, 2005 2nd Ave\, Anoka\, MN\, 55303\, US
END:VEVENT
BEGIN:VEVENT
DTSTART;TZID=America/Chicago:20260810T160000
DTEND;TZID=America/Chicago:20260810T210000
DTSTAMP:20260424T094408
CREATED:20250721T220930Z
LAST-MODIFIED:20250721T220930Z
UID:14322-1786377600-1786395600@10kbrew.com
SUMMARY:$5 Monday!
DESCRIPTION:$5 beers ALL day\, every Monday!
URL:https://10kbrew.com/event/5-monday-2026-08-10/
LOCATION:10K Brewing\, 2005 2nd Ave\, Anoka\, MN\, 55303\, US
END:VEVENT
BEGIN:VEVENT
DTSTART;TZID=America/Chicago:20260817T160000
DTEND;TZID=America/Chicago:20260817T210000
DTSTAMP:20260424T094408
CREATED:20250721T220930Z
LAST-MODIFIED:20250721T220930Z
UID:14323-1786982400-1787000400@10kbrew.com
SUMMARY:$5 Monday!
DESCRIPTION:$5 beers ALL day\, every Monday!
URL:https://10kbrew.com/event/5-monday-2026-08-17/
LOCATION:10K Brewing\, 2005 2nd Ave\, Anoka\, MN\, 55303\, US
END:VEVENT
BEGIN:VEVENT
DTSTART;TZID=America/Chicago:20260824T160000
DTEND;TZID=America/Chicago:20260824T210000
DTSTAMP:20260424T094408
CREATED:20250721T220930Z
LAST-MODIFIED:20250721T220930Z
UID:14326-1787587200-1787605200@10kbrew.com
SUMMARY:$5 Monday!
DESCRIPTION:$5 beers ALL day\, every Monday!
URL:https://10kbrew.com/event/5-monday-2026-08-24/
LOCATION:10K Brewing\, 2005 2nd Ave\, Anoka\, MN\, 55303\, US
END:VEVENT
BEGIN:VEVENT
DTSTART;TZID=America/Chicago:20260831T160000
DTEND;TZID=America/Chicago:20260831T210000
DTSTAMP:20260424T094408
CREATED:20250721T220930Z
LAST-MODIFIED:20250721T220930Z
UID:14328-1788192000-1788210000@10kbrew.com
SUMMARY:$5 Monday!
DESCRIPTION:$5 beers ALL day\, every Monday!
URL:https://10kbrew.com/event/5-monday-2026-08-31/
LOCATION:10K Brewing\, 2005 2nd Ave\, Anoka\, MN\, 55303\, US
END:VEVENT
BEGIN:VEVENT
DTSTART;TZID=America/Chicago:20260907T160000
DTEND;TZID=America/Chicago:20260907T210000
DTSTAMP:20260424T094408
CREATED:20250721T220930Z
LAST-MODIFIED:20250721T220930Z
UID:14332-1788796800-1788814800@10kbrew.com
SUMMARY:$5 Monday!
DESCRIPTION:$5 beers ALL day\, every Monday!
URL:https://10kbrew.com/event/5-monday-2026-09-07/
LOCATION:10K Brewing\, 2005 2nd Ave\, Anoka\, MN\, 55303\, US
END:VEVENT
END:VCALENDAR