BEGIN:VCALENDAR
VERSION:2.0
PRODID:-//10K Brewing - ECPv6.15.16//NONSGML v1.0//EN
CALSCALE:GREGORIAN
METHOD:PUBLISH
X-ORIGINAL-URL:https://10kbrew.com
X-WR-CALDESC:Events for 10K Brewing
REFRESH-INTERVAL;VALUE=DURATION:PT1H
X-Robots-Tag:noindex
X-PUBLISHED-TTL:PT1H
BEGIN:VTIMEZONE
TZID:America/Chicago
BEGIN:DAYLIGHT
TZOFFSETFROM:-0600
TZOFFSETTO:-0500
TZNAME:CDT
DTSTART:20250309T080000
END:DAYLIGHT
BEGIN:STANDARD
TZOFFSETFROM:-0500
TZOFFSETTO:-0600
TZNAME:CST
DTSTART:20251102T070000
END:STANDARD
BEGIN:DAYLIGHT
TZOFFSETFROM:-0600
TZOFFSETTO:-0500
TZNAME:CDT
DTSTART:20260308T080000
END:DAYLIGHT
BEGIN:STANDARD
TZOFFSETFROM:-0500
TZOFFSETTO:-0600
TZNAME:CST
DTSTART:20261101T070000
END:STANDARD
BEGIN:DAYLIGHT
TZOFFSETFROM:-0600
TZOFFSETTO:-0500
TZNAME:CDT
DTSTART:20270314T080000
END:DAYLIGHT
BEGIN:STANDARD
TZOFFSETFROM:-0500
TZOFFSETTO:-0600
TZNAME:CST
DTSTART:20271107T070000
END:STANDARD
END:VTIMEZONE
BEGIN:VEVENT
DTSTART;TZID=America/Chicago:20260410T190000
DTEND;TZID=America/Chicago:20260410T220000
DTSTAMP:20260420T100858
CREATED:20260323T170006Z
LAST-MODIFIED:20260323T170006Z
UID:14628-1775847600-1775858400@10kbrew.com
SUMMARY:Live Music: Eli Gardner
DESCRIPTION:Eli Gardiner was born and raised in the U.P of Michigan but now calls Minneapolis home. A prolific songwriter\, Gardiner released two albums in 2023\, a full band live album and a solo acoustic offering titled “Transient” Initially influenced by the likes of Dylan\, Neil Young and Tom Waits\, he has carved out his sound through hundreds of solo shows across the Midwest\, harkening to the sounds of John Moreland\, Jason Isbell and Chris Knight. His music has been played on MPR\, CBS\, The Current and countless local stations. Music in Minnesota says\, “Gardiner has a voice that conveys the pieces inside of us that can’t always speak. Relatable\, soulful\, and honest\, his songwriting is structured in observations. He’s a modern voice to old problems that continue to haunt our society.”
URL:https://10kbrew.com/event/live-music-eli-gardner/
CATEGORIES:Live Music
ATTACH;FMTTYPE=image/jpeg:https://10kbrew.com/wp-content/uploads/2026/03/641295283_1587176570077739_7065434752992515382_n.jpg
END:VEVENT
END:VCALENDAR