BEGIN:VCALENDAR
VERSION:2.0
PRODID:-//10K Brewing - ECPv6.15.16//NONSGML v1.0//EN
CALSCALE:GREGORIAN
METHOD:PUBLISH
X-WR-CALNAME:10K Brewing
X-ORIGINAL-URL:https://10kbrew.com
X-WR-CALDESC:Events for 10K Brewing
REFRESH-INTERVAL;VALUE=DURATION:PT1H
X-Robots-Tag:noindex
X-PUBLISHED-TTL:PT1H
BEGIN:VTIMEZONE
TZID:America/Chicago
BEGIN:DAYLIGHT
TZOFFSETFROM:-0600
TZOFFSETTO:-0500
TZNAME:CDT
DTSTART:20250309T080000
END:DAYLIGHT
BEGIN:STANDARD
TZOFFSETFROM:-0500
TZOFFSETTO:-0600
TZNAME:CST
DTSTART:20251102T070000
END:STANDARD
BEGIN:DAYLIGHT
TZOFFSETFROM:-0600
TZOFFSETTO:-0500
TZNAME:CDT
DTSTART:20260308T080000
END:DAYLIGHT
BEGIN:STANDARD
TZOFFSETFROM:-0500
TZOFFSETTO:-0600
TZNAME:CST
DTSTART:20261101T070000
END:STANDARD
BEGIN:DAYLIGHT
TZOFFSETFROM:-0600
TZOFFSETTO:-0500
TZNAME:CDT
DTSTART:20270314T080000
END:DAYLIGHT
BEGIN:STANDARD
TZOFFSETFROM:-0500
TZOFFSETTO:-0600
TZNAME:CST
DTSTART:20271107T070000
END:STANDARD
END:VTIMEZONE
BEGIN:VEVENT
DTSTART;TZID=America/Chicago:20260115T160000
DTEND;TZID=America/Chicago:20260115T180000
DTSTAMP:20260422T090356
CREATED:20251222T193721Z
LAST-MODIFIED:20251222T193721Z
UID:14520-1768492800-1768500000@10kbrew.com
SUMMARY:Grunge Unplugged: Teacher Appreciation Happy Hour!
DESCRIPTION:Teachers! School Staff! Get BOGO on your first beer at 10k’s Teacher Appreciation Happy Hour! Plus\, there’s great live tunes from Grunge Unplugged\, playing your favorite 90s Grunge hits and deep cuts!
URL:https://10kbrew.com/event/grunge-unplugged-teacher-appreciation-happy-hour-8/
CATEGORIES:Happy Hour
ATTACH;FMTTYPE=image/jpeg:https://10kbrew.com/wp-content/uploads/2023/10/376665190_808596731272026_5981001163857032840_n.jpg
END:VEVENT
END:VCALENDAR