BEGIN:VCALENDAR
VERSION:2.0
PRODID:-//10K Brewing - ECPv6.15.16//NONSGML v1.0//EN
CALSCALE:GREGORIAN
METHOD:PUBLISH
X-WR-CALNAME:10K Brewing
X-ORIGINAL-URL:https://10kbrew.com
X-WR-CALDESC:Events for 10K Brewing
REFRESH-INTERVAL;VALUE=DURATION:PT1H
X-Robots-Tag:noindex
X-PUBLISHED-TTL:PT1H
BEGIN:VTIMEZONE
TZID:America/Chicago
BEGIN:DAYLIGHT
TZOFFSETFROM:-0600
TZOFFSETTO:-0500
TZNAME:CDT
DTSTART:20230312T080000
END:DAYLIGHT
BEGIN:STANDARD
TZOFFSETFROM:-0500
TZOFFSETTO:-0600
TZNAME:CST
DTSTART:20231105T070000
END:STANDARD
BEGIN:DAYLIGHT
TZOFFSETFROM:-0600
TZOFFSETTO:-0500
TZNAME:CDT
DTSTART:20240310T080000
END:DAYLIGHT
BEGIN:STANDARD
TZOFFSETFROM:-0500
TZOFFSETTO:-0600
TZNAME:CST
DTSTART:20241103T070000
END:STANDARD
BEGIN:DAYLIGHT
TZOFFSETFROM:-0600
TZOFFSETTO:-0500
TZNAME:CDT
DTSTART:20250309T080000
END:DAYLIGHT
BEGIN:STANDARD
TZOFFSETFROM:-0500
TZOFFSETTO:-0600
TZNAME:CST
DTSTART:20251102T070000
END:STANDARD
BEGIN:DAYLIGHT
TZOFFSETFROM:-0600
TZOFFSETTO:-0500
TZNAME:CDT
DTSTART:20260308T080000
END:DAYLIGHT
BEGIN:STANDARD
TZOFFSETFROM:-0500
TZOFFSETTO:-0600
TZNAME:CST
DTSTART:20261101T070000
END:STANDARD
BEGIN:DAYLIGHT
TZOFFSETFROM:-0600
TZOFFSETTO:-0500
TZNAME:CDT
DTSTART:20270314T080000
END:DAYLIGHT
BEGIN:STANDARD
TZOFFSETFROM:-0500
TZOFFSETTO:-0600
TZNAME:CST
DTSTART:20271107T070000
END:STANDARD
END:VTIMEZONE
BEGIN:VEVENT
DTSTART;TZID=America/Chicago:20260306T140000
DTEND;TZID=America/Chicago:20260306T170000
DTSTAMP:20260425T053437
CREATED:20260225T154531Z
LAST-MODIFIED:20260225T154531Z
UID:14604-1772805600-1772816400@10kbrew.com
SUMMARY:Empower Sour Vol. VII
DESCRIPTION:Date: Friday\, March 6 Time: 2:00 PM – 5:00 PM\nJoin us as we celebrate the release of Empower Sour Vol. VII at our annual Empower Sour Happy Hour!\nEmpower Sour is named in honor of Alexandra House\, whose mission is to empower victims of domestic and sexual violence and inspire social change through education\, support\, and advocacy.\n What’s happening: Choose your sip: this year you can enjoy Empower Sour as a beer or a cocktail Flavor announcements coming soon — stay tuned! $15 includes your commemorative glass and first pour (beer only)  Live music from Betty Danger\n Proceeds from the event benefit Alexandra House and their missionBring your friends\, sip with purpose\, and help us make an impact in our community.Mark your calendar and RSVP we can’t wait to raise a glass with you!
URL:https://10kbrew.com/event/empower-sour-vol-vii/
CATEGORIES:Beer Releases,Happy Hour
ATTACH;FMTTYPE=image/png:https://10kbrew.com/wp-content/uploads/2023/02/Empower-Sour.png
END:VEVENT
BEGIN:VEVENT
DTSTART;TZID=America/Chicago:20260127T160000
DTEND;TZID=America/Chicago:20260127T210000
DTSTAMP:20260425T053437
CREATED:20251222T192427Z
LAST-MODIFIED:20251222T192427Z
UID:14511-1769529600-1769547600@10kbrew.com
SUMMARY:$6 Old Fashioned Tuesdays!
DESCRIPTION:A toast to a new tradition — $6 Old Fashioned Tuesdays!
URL:https://10kbrew.com/event/6-old-fashioned-tuesdays-13/
CATEGORIES:Beer Releases
ATTACH;FMTTYPE=image/jpeg:https://10kbrew.com/wp-content/uploads/2025/11/573619140_1273266758178019_7325408038358362665_n.jpg
END:VEVENT
BEGIN:VEVENT
DTSTART;TZID=America/Chicago:20260120T160000
DTEND;TZID=America/Chicago:20260120T210000
DTSTAMP:20260425T053437
CREATED:20251222T192353Z
LAST-MODIFIED:20251222T192353Z
UID:14510-1768924800-1768942800@10kbrew.com
SUMMARY:$6 Old Fashioned Tuesdays!
DESCRIPTION:A toast to a new tradition — $6 Old Fashioned Tuesdays!
URL:https://10kbrew.com/event/6-old-fashioned-tuesdays-12/
CATEGORIES:Beer Releases
ATTACH;FMTTYPE=image/jpeg:https://10kbrew.com/wp-content/uploads/2025/11/573619140_1273266758178019_7325408038358362665_n.jpg
END:VEVENT
BEGIN:VEVENT
DTSTART;TZID=America/Chicago:20260113T160000
DTEND;TZID=America/Chicago:20260113T210000
DTSTAMP:20260425T053437
CREATED:20251222T192320Z
LAST-MODIFIED:20251222T192320Z
UID:14509-1768320000-1768338000@10kbrew.com
SUMMARY:$6 Old Fashioned Tuesdays!
DESCRIPTION:A toast to a new tradition — $6 Old Fashioned Tuesdays!
URL:https://10kbrew.com/event/6-old-fashioned-tuesdays-11/
CATEGORIES:Beer Releases
ATTACH;FMTTYPE=image/jpeg:https://10kbrew.com/wp-content/uploads/2025/11/573619140_1273266758178019_7325408038358362665_n.jpg
END:VEVENT
BEGIN:VEVENT
DTSTART;TZID=America/Chicago:20260106T160000
DTEND;TZID=America/Chicago:20260106T210000
DTSTAMP:20260425T053437
CREATED:20251222T192244Z
LAST-MODIFIED:20251222T192244Z
UID:14508-1767715200-1767733200@10kbrew.com
SUMMARY:$6 Old Fashioned Tuesdays!
DESCRIPTION:A toast to a new tradition — $6 Old Fashioned Tuesdays!
URL:https://10kbrew.com/event/6-old-fashioned-tuesdays-10/
CATEGORIES:Beer Releases
ATTACH;FMTTYPE=image/jpeg:https://10kbrew.com/wp-content/uploads/2025/11/573619140_1273266758178019_7325408038358362665_n.jpg
END:VEVENT
BEGIN:VEVENT
DTSTART;TZID=America/Chicago:20251230T160000
DTEND;TZID=America/Chicago:20251230T210000
DTSTAMP:20260425T053437
CREATED:20251201T222820Z
LAST-MODIFIED:20251201T222820Z
UID:14474-1767110400-1767128400@10kbrew.com
SUMMARY:$6 Old Fashioned Tuesdays!
DESCRIPTION:A toast to a new tradition — $6 Old Fashioned Tuesdays!
URL:https://10kbrew.com/event/6-old-fashioned-tuesdays-9/
CATEGORIES:Beer Releases
ATTACH;FMTTYPE=image/jpeg:https://10kbrew.com/wp-content/uploads/2025/11/573619140_1273266758178019_7325408038358362665_n.jpg
END:VEVENT
BEGIN:VEVENT
DTSTART;TZID=America/Chicago:20251223T160000
DTEND;TZID=America/Chicago:20251223T210000
DTSTAMP:20260425T053437
CREATED:20251201T222738Z
LAST-MODIFIED:20251201T222738Z
UID:14473-1766505600-1766523600@10kbrew.com
SUMMARY:$6 Old Fashioned Tuesdays!
DESCRIPTION:A toast to a new tradition — $6 Old Fashioned Tuesdays!
URL:https://10kbrew.com/event/6-old-fashioned-tuesdays-8/
CATEGORIES:Beer Releases
ATTACH;FMTTYPE=image/jpeg:https://10kbrew.com/wp-content/uploads/2025/11/573619140_1273266758178019_7325408038358362665_n.jpg
END:VEVENT
BEGIN:VEVENT
DTSTART;TZID=America/Chicago:20251216T160000
DTEND;TZID=America/Chicago:20251216T210000
DTSTAMP:20260425T053437
CREATED:20251201T222656Z
LAST-MODIFIED:20251201T222656Z
UID:14472-1765900800-1765918800@10kbrew.com
SUMMARY:$6 Old Fashioned Tuesdays!
DESCRIPTION:A toast to a new tradition — $6 Old Fashioned Tuesdays!
URL:https://10kbrew.com/event/6-old-fashioned-tuesdays-7/
CATEGORIES:Beer Releases
ATTACH;FMTTYPE=image/jpeg:https://10kbrew.com/wp-content/uploads/2025/11/573619140_1273266758178019_7325408038358362665_n.jpg
END:VEVENT
BEGIN:VEVENT
DTSTART;TZID=America/Chicago:20251209T160000
DTEND;TZID=America/Chicago:20251209T210000
DTSTAMP:20260425T053437
CREATED:20251201T222606Z
LAST-MODIFIED:20251201T222624Z
UID:14471-1765296000-1765314000@10kbrew.com
SUMMARY:$6 Old Fashioned Tuesdays!
DESCRIPTION:A toast to a new tradition — $6 Old Fashioned Tuesdays!
URL:https://10kbrew.com/event/6-old-fashioned-tuesdays-6/
CATEGORIES:Beer Releases
ATTACH;FMTTYPE=image/jpeg:https://10kbrew.com/wp-content/uploads/2025/11/573619140_1273266758178019_7325408038358362665_n.jpg
END:VEVENT
BEGIN:VEVENT
DTSTART;TZID=America/Chicago:20251202T160000
DTEND;TZID=America/Chicago:20251202T210000
DTSTAMP:20260425T053437
CREATED:20251201T222533Z
LAST-MODIFIED:20251201T222533Z
UID:14470-1764691200-1764709200@10kbrew.com
SUMMARY:$6 Old Fashioned Tuesdays!
DESCRIPTION:A toast to a new tradition — $6 Old Fashioned Tuesdays!
URL:https://10kbrew.com/event/6-old-fashioned-tuesdays-5/
CATEGORIES:Beer Releases
ATTACH;FMTTYPE=image/jpeg:https://10kbrew.com/wp-content/uploads/2025/11/573619140_1273266758178019_7325408038358362665_n.jpg
END:VEVENT
BEGIN:VEVENT
DTSTART;TZID=America/Chicago:20251010T130000
DTEND;TZID=America/Chicago:20251012T210000
DTSTAMP:20260425T053437
CREATED:20250807T224133Z
LAST-MODIFIED:20250807T225152Z
UID:14330-1760101200-1760302800@10kbrew.com
SUMMARY:Save The Date: 10K Brewing's 10 Year Anniversary!
DESCRIPTION:🎉 Cheers to 10 Years! 🎉 \nWe’re celebrating 10 amazing years together — and we want you to be part of it! \nJoin us for an unforgettable weekend at 10K! \n🍻 Specialty brews crafted just for the occasion🍴 Delicious food from Babe’s Kitchen (watch out for new menu items!)🎶 Live Music that will bring good vibes and plenty of cheers! \n📅 Date: October 10th – 12th🕒 Time: All day celebrations! 📍 Location: 10K Brewing Taproom & Empire Room \nWhether you’ve known us for a decade or just a day\, we’d be honored to celebrate this milestone with you. \nLet’s raise a glass to 10 years of memories\, growth\, and (most importantly) beer! 🍺❤️
URL:https://10kbrew.com/event/save-the-date-10k-brewings-10-year-anniversary/
LOCATION:10K Brewing\, 2005 2nd Ave\, Anoka\, MN\, 55303\, US
CATEGORIES:Beer Releases
ATTACH;FMTTYPE=image/webp:https://10kbrew.com/wp-content/uploads/2025/08/shutterstock_90055534_30.webp
END:VEVENT
BEGIN:VEVENT
DTSTART;VALUE=DATE:20250927
DTEND;VALUE=DATE:20250929
DTSTAMP:20260425T053437
CREATED:20250825T214656Z
LAST-MODIFIED:20250825T214956Z
UID:14348-1758938400-1759024799@10kbrew.com
SUMMARY:10th Annual Anokafest (Oktoberfest)
DESCRIPTION:Join us for 10K Brewing’s 10th annual Oktoberfest celebrating the release of Anokafest\, rated one of the best Marzen style beers in Minnesota 2016! There will be Beer\, Live Music\, and there might even be Lederhosen! \nLive Music: Tyler Polzin will be in the Taproom from 7-10pm!
URL:https://10kbrew.com/event/10th-annual-anokafest-oktoberfest/
LOCATION:10K Brewing\, 2005 2nd Ave\, Anoka\, MN\, 55303\, US
CATEGORIES:Beer Releases
ATTACH;FMTTYPE=image/jpeg:https://10kbrew.com/wp-content/uploads/2022/08/301110686_5554316321348282_8983583769124623798_n.jpg
END:VEVENT
BEGIN:VEVENT
DTSTART;TZID=America/Chicago:20250127T160000
DTEND;TZID=America/Chicago:20250127T210000
DTSTAMP:20260425T053437
CREATED:20220509T214321Z
LAST-MODIFIED:20240924T201737Z
UID:13575-1737993600-1738011600@10kbrew.com
SUMMARY:$5 Mondays!
DESCRIPTION:It’s Monday\, you know the drill.\n\n\nOur place\, $5 pours on any beer!
URL:https://10kbrew.com/event/5-mondays-2-2025-01-27/
LOCATION:10K Brewing\, 2005 2nd Ave\, Anoka\, MN\, 55303\, US
CATEGORIES:Beer Releases
ATTACH;FMTTYPE=image/jpeg:https://10kbrew.com/wp-content/uploads/2022/05/280318183_5255653464547904_8278737375609805480_n.jpg
END:VEVENT
BEGIN:VEVENT
DTSTART;TZID=America/Chicago:20250120T160000
DTEND;TZID=America/Chicago:20250120T210000
DTSTAMP:20260425T053437
CREATED:20220509T214321Z
LAST-MODIFIED:20240924T201737Z
UID:13574-1737388800-1737406800@10kbrew.com
SUMMARY:$5 Mondays!
DESCRIPTION:It’s Monday\, you know the drill.\n\n\nOur place\, $5 pours on any beer!
URL:https://10kbrew.com/event/5-mondays-2-2025-01-20/
LOCATION:10K Brewing\, 2005 2nd Ave\, Anoka\, MN\, 55303\, US
CATEGORIES:Beer Releases
ATTACH;FMTTYPE=image/jpeg:https://10kbrew.com/wp-content/uploads/2022/05/280318183_5255653464547904_8278737375609805480_n.jpg
END:VEVENT
BEGIN:VEVENT
DTSTART;TZID=America/Chicago:20250113T160000
DTEND;TZID=America/Chicago:20250113T210000
DTSTAMP:20260425T053437
CREATED:20220509T214321Z
LAST-MODIFIED:20240924T201736Z
UID:13573-1736784000-1736802000@10kbrew.com
SUMMARY:$5 Mondays!
DESCRIPTION:It’s Monday\, you know the drill.\n\n\nOur place\, $5 pours on any beer!
URL:https://10kbrew.com/event/5-mondays-2-2025-01-13/
LOCATION:10K Brewing\, 2005 2nd Ave\, Anoka\, MN\, 55303\, US
CATEGORIES:Beer Releases
ATTACH;FMTTYPE=image/jpeg:https://10kbrew.com/wp-content/uploads/2022/05/280318183_5255653464547904_8278737375609805480_n.jpg
END:VEVENT
BEGIN:VEVENT
DTSTART;TZID=America/Chicago:20250106T160000
DTEND;TZID=America/Chicago:20250106T210000
DTSTAMP:20260425T053437
CREATED:20220509T214321Z
LAST-MODIFIED:20240924T201736Z
UID:13572-1736179200-1736197200@10kbrew.com
SUMMARY:$5 Mondays!
DESCRIPTION:It’s Monday\, you know the drill.\n\n\nOur place\, $5 pours on any beer!
URL:https://10kbrew.com/event/5-mondays-2-2025-01-06/
LOCATION:10K Brewing\, 2005 2nd Ave\, Anoka\, MN\, 55303\, US
CATEGORIES:Beer Releases
ATTACH;FMTTYPE=image/jpeg:https://10kbrew.com/wp-content/uploads/2022/05/280318183_5255653464547904_8278737375609805480_n.jpg
END:VEVENT
BEGIN:VEVENT
DTSTART;TZID=America/Chicago:20241230T160000
DTEND;TZID=America/Chicago:20241230T210000
DTSTAMP:20260425T053437
CREATED:20220509T214321Z
LAST-MODIFIED:20240924T201736Z
UID:13571-1735574400-1735592400@10kbrew.com
SUMMARY:$5 Mondays!
DESCRIPTION:It’s Monday\, you know the drill.\n\n\nOur place\, $5 pours on any beer!
URL:https://10kbrew.com/event/5-mondays-2-2024-12-30/
LOCATION:10K Brewing\, 2005 2nd Ave\, Anoka\, MN\, 55303\, US
CATEGORIES:Beer Releases
ATTACH;FMTTYPE=image/jpeg:https://10kbrew.com/wp-content/uploads/2022/05/280318183_5255653464547904_8278737375609805480_n.jpg
END:VEVENT
BEGIN:VEVENT
DTSTART;TZID=America/Chicago:20241223T160000
DTEND;TZID=America/Chicago:20241223T210000
DTSTAMP:20260425T053437
CREATED:20220509T214321Z
LAST-MODIFIED:20240924T201735Z
UID:13570-1734969600-1734987600@10kbrew.com
SUMMARY:$5 Mondays!
DESCRIPTION:It’s Monday\, you know the drill.\n\n\nOur place\, $5 pours on any beer!
URL:https://10kbrew.com/event/5-mondays-2-2024-12-23/
LOCATION:10K Brewing\, 2005 2nd Ave\, Anoka\, MN\, 55303\, US
CATEGORIES:Beer Releases
ATTACH;FMTTYPE=image/jpeg:https://10kbrew.com/wp-content/uploads/2022/05/280318183_5255653464547904_8278737375609805480_n.jpg
END:VEVENT
BEGIN:VEVENT
DTSTART;TZID=America/Chicago:20241216T160000
DTEND;TZID=America/Chicago:20241216T210000
DTSTAMP:20260425T053437
CREATED:20220509T214321Z
LAST-MODIFIED:20240924T201733Z
UID:13569-1734364800-1734382800@10kbrew.com
SUMMARY:$5 Mondays!
DESCRIPTION:It’s Monday\, you know the drill.\n\n\nOur place\, $5 pours on any beer!
URL:https://10kbrew.com/event/5-mondays-2-2024-12-16/
LOCATION:10K Brewing\, 2005 2nd Ave\, Anoka\, MN\, 55303\, US
CATEGORIES:Beer Releases
ATTACH;FMTTYPE=image/jpeg:https://10kbrew.com/wp-content/uploads/2022/05/280318183_5255653464547904_8278737375609805480_n.jpg
END:VEVENT
BEGIN:VEVENT
DTSTART;TZID=America/Chicago:20241209T160000
DTEND;TZID=America/Chicago:20241209T210000
DTSTAMP:20260425T053437
CREATED:20220509T214321Z
LAST-MODIFIED:20240924T201733Z
UID:13568-1733760000-1733778000@10kbrew.com
SUMMARY:$5 Mondays!
DESCRIPTION:It’s Monday\, you know the drill.\n\n\nOur place\, $5 pours on any beer!
URL:https://10kbrew.com/event/5-mondays-2-2024-12-09/
LOCATION:10K Brewing\, 2005 2nd Ave\, Anoka\, MN\, 55303\, US
CATEGORIES:Beer Releases
ATTACH;FMTTYPE=image/jpeg:https://10kbrew.com/wp-content/uploads/2022/05/280318183_5255653464547904_8278737375609805480_n.jpg
END:VEVENT
BEGIN:VEVENT
DTSTART;TZID=America/Chicago:20241202T160000
DTEND;TZID=America/Chicago:20241202T210000
DTSTAMP:20260425T053437
CREATED:20220509T214321Z
LAST-MODIFIED:20240924T201733Z
UID:13567-1733155200-1733173200@10kbrew.com
SUMMARY:$5 Mondays!
DESCRIPTION:It’s Monday\, you know the drill.\n\n\nOur place\, $5 pours on any beer!
URL:https://10kbrew.com/event/5-mondays-2-2024-12-02/
LOCATION:10K Brewing\, 2005 2nd Ave\, Anoka\, MN\, 55303\, US
CATEGORIES:Beer Releases
ATTACH;FMTTYPE=image/jpeg:https://10kbrew.com/wp-content/uploads/2022/05/280318183_5255653464547904_8278737375609805480_n.jpg
END:VEVENT
BEGIN:VEVENT
DTSTART;TZID=America/Chicago:20241125T160000
DTEND;TZID=America/Chicago:20241125T210000
DTSTAMP:20260425T053437
CREATED:20220509T214321Z
LAST-MODIFIED:20240924T201732Z
UID:13566-1732550400-1732568400@10kbrew.com
SUMMARY:$5 Mondays!
DESCRIPTION:It’s Monday\, you know the drill.\n\n\nOur place\, $5 pours on any beer!
URL:https://10kbrew.com/event/5-mondays-2-2024-11-25/
LOCATION:10K Brewing\, 2005 2nd Ave\, Anoka\, MN\, 55303\, US
CATEGORIES:Beer Releases
ATTACH;FMTTYPE=image/jpeg:https://10kbrew.com/wp-content/uploads/2022/05/280318183_5255653464547904_8278737375609805480_n.jpg
END:VEVENT
BEGIN:VEVENT
DTSTART;TZID=America/Chicago:20241118T160000
DTEND;TZID=America/Chicago:20241118T210000
DTSTAMP:20260425T053437
CREATED:20220509T214321Z
LAST-MODIFIED:20240924T201732Z
UID:13565-1731945600-1731963600@10kbrew.com
SUMMARY:$5 Mondays!
DESCRIPTION:It’s Monday\, you know the drill.\n\n\nOur place\, $5 pours on any beer!
URL:https://10kbrew.com/event/5-mondays-2-2024-11-18/
LOCATION:10K Brewing\, 2005 2nd Ave\, Anoka\, MN\, 55303\, US
CATEGORIES:Beer Releases
ATTACH;FMTTYPE=image/jpeg:https://10kbrew.com/wp-content/uploads/2022/05/280318183_5255653464547904_8278737375609805480_n.jpg
END:VEVENT
BEGIN:VEVENT
DTSTART;TZID=America/Chicago:20241111T160000
DTEND;TZID=America/Chicago:20241111T210000
DTSTAMP:20260425T053437
CREATED:20220509T214321Z
LAST-MODIFIED:20240924T201732Z
UID:13564-1731340800-1731358800@10kbrew.com
SUMMARY:$5 Mondays!
DESCRIPTION:It’s Monday\, you know the drill.\n\n\nOur place\, $5 pours on any beer!
URL:https://10kbrew.com/event/5-mondays-2-2024-11-11/
LOCATION:10K Brewing\, 2005 2nd Ave\, Anoka\, MN\, 55303\, US
CATEGORIES:Beer Releases
ATTACH;FMTTYPE=image/jpeg:https://10kbrew.com/wp-content/uploads/2022/05/280318183_5255653464547904_8278737375609805480_n.jpg
END:VEVENT
BEGIN:VEVENT
DTSTART;TZID=America/Chicago:20241104T160000
DTEND;TZID=America/Chicago:20241104T210000
DTSTAMP:20260425T053437
CREATED:20220509T214321Z
LAST-MODIFIED:20240924T201731Z
UID:13563-1730736000-1730754000@10kbrew.com
SUMMARY:$5 Mondays!
DESCRIPTION:It’s Monday\, you know the drill.\n\n\nOur place\, $5 pours on any beer!
URL:https://10kbrew.com/event/5-mondays-2-2024-11-04/
LOCATION:10K Brewing\, 2005 2nd Ave\, Anoka\, MN\, 55303\, US
CATEGORIES:Beer Releases
ATTACH;FMTTYPE=image/jpeg:https://10kbrew.com/wp-content/uploads/2022/05/280318183_5255653464547904_8278737375609805480_n.jpg
END:VEVENT
BEGIN:VEVENT
DTSTART;TZID=America/Chicago:20241028T160000
DTEND;TZID=America/Chicago:20241028T210000
DTSTAMP:20260425T053437
CREATED:20220509T214321Z
LAST-MODIFIED:20240924T201731Z
UID:13562-1730131200-1730149200@10kbrew.com
SUMMARY:$5 Mondays!
DESCRIPTION:It’s Monday\, you know the drill.\n\n\nOur place\, $5 pours on any beer!
URL:https://10kbrew.com/event/5-mondays-2-2024-10-28/
LOCATION:10K Brewing\, 2005 2nd Ave\, Anoka\, MN\, 55303\, US
CATEGORIES:Beer Releases
ATTACH;FMTTYPE=image/jpeg:https://10kbrew.com/wp-content/uploads/2022/05/280318183_5255653464547904_8278737375609805480_n.jpg
END:VEVENT
BEGIN:VEVENT
DTSTART;TZID=America/Chicago:20241021T160000
DTEND;TZID=America/Chicago:20241021T210000
DTSTAMP:20260425T053437
CREATED:20220509T214321Z
LAST-MODIFIED:20240924T201731Z
UID:13561-1729526400-1729544400@10kbrew.com
SUMMARY:$5 Mondays!
DESCRIPTION:It’s Monday\, you know the drill.\n\n\nOur place\, $5 pours on any beer!
URL:https://10kbrew.com/event/5-mondays-2-2024-10-21/
LOCATION:10K Brewing\, 2005 2nd Ave\, Anoka\, MN\, 55303\, US
CATEGORIES:Beer Releases
ATTACH;FMTTYPE=image/jpeg:https://10kbrew.com/wp-content/uploads/2022/05/280318183_5255653464547904_8278737375609805480_n.jpg
END:VEVENT
BEGIN:VEVENT
DTSTART;TZID=America/Chicago:20241014T160000
DTEND;TZID=America/Chicago:20241014T210000
DTSTAMP:20260425T053437
CREATED:20220509T214321Z
LAST-MODIFIED:20240924T201730Z
UID:13560-1728921600-1728939600@10kbrew.com
SUMMARY:$5 Mondays!
DESCRIPTION:It’s Monday\, you know the drill.\n\n\nOur place\, $5 pours on any beer!
URL:https://10kbrew.com/event/5-mondays-2-2024-10-14/
LOCATION:10K Brewing\, 2005 2nd Ave\, Anoka\, MN\, 55303\, US
CATEGORIES:Beer Releases
ATTACH;FMTTYPE=image/jpeg:https://10kbrew.com/wp-content/uploads/2022/05/280318183_5255653464547904_8278737375609805480_n.jpg
END:VEVENT
BEGIN:VEVENT
DTSTART;TZID=America/Chicago:20241007T160000
DTEND;TZID=America/Chicago:20241007T210000
DTSTAMP:20260425T053437
CREATED:20220509T214321Z
LAST-MODIFIED:20240924T201728Z
UID:13531-1728316800-1728334800@10kbrew.com
SUMMARY:$5 Mondays!
DESCRIPTION:It’s Monday\, you know the drill.\n\n\nOur place\, $5 pours on any beer!
URL:https://10kbrew.com/event/5-mondays-2-2024-10-07/
LOCATION:10K Brewing\, 2005 2nd Ave\, Anoka\, MN\, 55303\, US
CATEGORIES:Beer Releases
ATTACH;FMTTYPE=image/jpeg:https://10kbrew.com/wp-content/uploads/2022/05/280318183_5255653464547904_8278737375609805480_n.jpg
END:VEVENT
BEGIN:VEVENT
DTSTART;TZID=America/Chicago:20240930T160000
DTEND;TZID=America/Chicago:20240930T210000
DTSTAMP:20260425T053437
CREATED:20220509T214321Z
LAST-MODIFIED:20240924T201728Z
UID:13530-1727712000-1727730000@10kbrew.com
SUMMARY:$5 Mondays!
DESCRIPTION:It’s Monday\, you know the drill.\n\n\nOur place\, $5 pours on any beer!
URL:https://10kbrew.com/event/5-mondays-2-2024-09-30/
LOCATION:10K Brewing\, 2005 2nd Ave\, Anoka\, MN\, 55303\, US
CATEGORIES:Beer Releases
ATTACH;FMTTYPE=image/jpeg:https://10kbrew.com/wp-content/uploads/2022/05/280318183_5255653464547904_8278737375609805480_n.jpg
END:VEVENT
END:VCALENDAR