BEGIN:VCALENDAR
VERSION:2.0
PRODID:-//10K Brewing - ECPv6.15.16//NONSGML v1.0//EN
CALSCALE:GREGORIAN
METHOD:PUBLISH
X-WR-CALNAME:10K Brewing
X-ORIGINAL-URL:https://10kbrew.com
X-WR-CALDESC:Events for 10K Brewing
REFRESH-INTERVAL;VALUE=DURATION:PT1H
X-Robots-Tag:noindex
X-PUBLISHED-TTL:PT1H
BEGIN:VTIMEZONE
TZID:America/Chicago
BEGIN:DAYLIGHT
TZOFFSETFROM:-0600
TZOFFSETTO:-0500
TZNAME:CDT
DTSTART:20240310T080000
END:DAYLIGHT
BEGIN:STANDARD
TZOFFSETFROM:-0500
TZOFFSETTO:-0600
TZNAME:CST
DTSTART:20241103T070000
END:STANDARD
BEGIN:DAYLIGHT
TZOFFSETFROM:-0600
TZOFFSETTO:-0500
TZNAME:CDT
DTSTART:20250309T080000
END:DAYLIGHT
BEGIN:STANDARD
TZOFFSETFROM:-0500
TZOFFSETTO:-0600
TZNAME:CST
DTSTART:20251102T070000
END:STANDARD
BEGIN:DAYLIGHT
TZOFFSETFROM:-0600
TZOFFSETTO:-0500
TZNAME:CDT
DTSTART:20260308T080000
END:DAYLIGHT
BEGIN:STANDARD
TZOFFSETFROM:-0500
TZOFFSETTO:-0600
TZNAME:CST
DTSTART:20261101T070000
END:STANDARD
END:VTIMEZONE
BEGIN:VEVENT
DTSTART;TZID=America/Chicago:20250712T090000
DTEND;TZID=America/Chicago:20250712T170000
DTSTAMP:20260421T114555
CREATED:20250702T204258Z
LAST-MODIFIED:20250702T204258Z
UID:14229-1752310800-1752339600@10kbrew.com
SUMMARY:Anoka Riverfest & Craft Fair
DESCRIPTION:One of the Twin Cities’ largest craft fairs! \nBrowse through the outdoor market offering hand-crafted goods created by 150+ artists.  You will find clothing and accessories\, jewely\, soaps\, lotions\, home and outdoor decor\, furniture\, food\, and more!  And you are steps from downtown Anoka merchants.  Extend your shoppiong experience by checking out the many unique shops! \nThe event is also part of the Anoka Social District – a designated area which allows consumers (21 years and older) to purcahse and drink beer\, wine\, and cocktails from a licensed business and then sip and stroll through the district. \nLearn more and check out all of the sponsors at Anoka Riverfest & Craft Fair.
URL:https://10kbrew.com/event/anoka-riverfest-craft-fair-2/
LOCATION:10K Brewing\, 2005 2nd Ave\, Anoka\, MN\, 55303\, US
ATTACH;FMTTYPE=image/jpeg:https://10kbrew.com/wp-content/uploads/2025/07/503579448_1103534461811648_5601212974304312555_n.jpg
END:VEVENT
BEGIN:VEVENT
DTSTART;TZID=America/Chicago:20250712T190000
DTEND;TZID=America/Chicago:20250712T220000
DTSTAMP:20260421T114555
CREATED:20230727T202336Z
LAST-MODIFIED:20230727T202336Z
UID:14228-1752346800-1752357600@10kbrew.com
SUMMARY:Live Music: The Hero & The Villain
DESCRIPTION:RAISING MONEY TO HELP END DOMESTIC VIOLENCE\nWith strong beliefs in the ideas of community\, collaboration\, and creativity\, The Hero and The Villain focuses not just on the music itself\, but also on what a musical platform can do to spread messages of hope and love to everyone.  \nEach and every performance that The Hero and The Villain will ever participate in will include a charitable cause component\, so by supporting the music you will also be supporting a number of outstanding organizations around the state\, nation\, and world that will undoubtedly change the lives of all those involved.  
URL:https://10kbrew.com/event/live-music-the-hero-the-villain-2025-07-12/
LOCATION:10K Brewing\, 2005 2nd Ave\, Anoka\, MN\, 55303\, US
CATEGORIES:Live Music
ATTACH;FMTTYPE=image/webp:https://10kbrew.com/wp-content/uploads/2023/07/meta-eyJzcmNCdWNrZXQiOiJiemdsZmlsZXMifQ.png.webp
END:VEVENT
END:VCALENDAR