BEGIN:VCALENDAR
VERSION:2.0
PRODID:-//10K Brewing - ECPv6.15.16//NONSGML v1.0//EN
CALSCALE:GREGORIAN
METHOD:PUBLISH
X-WR-CALNAME:10K Brewing
X-ORIGINAL-URL:https://10kbrew.com
X-WR-CALDESC:Events for 10K Brewing
REFRESH-INTERVAL;VALUE=DURATION:PT1H
X-Robots-Tag:noindex
X-PUBLISHED-TTL:PT1H
BEGIN:VTIMEZONE
TZID:America/Chicago
BEGIN:DAYLIGHT
TZOFFSETFROM:-0600
TZOFFSETTO:-0500
TZNAME:CDT
DTSTART:20240310T080000
END:DAYLIGHT
BEGIN:STANDARD
TZOFFSETFROM:-0500
TZOFFSETTO:-0600
TZNAME:CST
DTSTART:20241103T070000
END:STANDARD
BEGIN:DAYLIGHT
TZOFFSETFROM:-0600
TZOFFSETTO:-0500
TZNAME:CDT
DTSTART:20250309T080000
END:DAYLIGHT
BEGIN:STANDARD
TZOFFSETFROM:-0500
TZOFFSETTO:-0600
TZNAME:CST
DTSTART:20251102T070000
END:STANDARD
BEGIN:DAYLIGHT
TZOFFSETFROM:-0600
TZOFFSETTO:-0500
TZNAME:CDT
DTSTART:20260308T080000
END:DAYLIGHT
BEGIN:STANDARD
TZOFFSETFROM:-0500
TZOFFSETTO:-0600
TZNAME:CST
DTSTART:20261101T070000
END:STANDARD
END:VTIMEZONE
BEGIN:VEVENT
DTSTART;TZID=America/Chicago:20250213T183000
DTEND;TZID=America/Chicago:20250213T203000
DTSTAMP:20260421T171126
CREATED:20250129T223512Z
LAST-MODIFIED:20250129T223512Z
UID:14042-1739471400-1739478600@10kbrew.com
SUMMARY:Trivia Mafia: Love Is Blind
DESCRIPTION:FIND OUT IF YOUR MEMORY IS THE REAL BLIND SPOT\nThis February\, Trivia Mafia enters the pods and says “I do” to a theme night all about Love Is Blind\, just in time for the show’s Netflix return on Valentine’s Day. And this season? It was filmed right here in Minneapolis\, so who knows—you might just recognize someone from the pods. \nWe’re serving up a platter of golden cups\, a heartbreak of engagements\, a reunion’s worth of messy moments\, and maybe even a bowl of cuties (but you’ll have to peel your own). \nSo ditch the dating apps\, skip the awkward family introductions\, and join us at select locations in Minneapolis and beyond for a trivia night dedicated to pod proposals\, dramatic love triangles\, and whether love truly is blind. \nIt’s a trivia experience as unforgettable as a Season 1 love story—and way less messy than the reunion special.
URL:https://10kbrew.com/event/trivia-mafia-love-is-blind/
LOCATION:10K Brewing\, 2005 2nd Ave\, Anoka\, MN\, 55303\, US
CATEGORIES:Trivia
ATTACH;FMTTYPE=image/jpeg:https://10kbrew.com/wp-content/uploads/2025/01/TMLoveisBlind2024Banner.jpg
END:VEVENT
END:VCALENDAR