BEGIN:VCALENDAR
VERSION:2.0
PRODID:-//10K Brewing - ECPv6.15.16//NONSGML v1.0//EN
CALSCALE:GREGORIAN
METHOD:PUBLISH
X-ORIGINAL-URL:https://10kbrew.com
X-WR-CALDESC:Events for 10K Brewing
REFRESH-INTERVAL;VALUE=DURATION:PT1H
X-Robots-Tag:noindex
X-PUBLISHED-TTL:PT1H
BEGIN:VTIMEZONE
TZID:America/Chicago
BEGIN:DAYLIGHT
TZOFFSETFROM:-0600
TZOFFSETTO:-0500
TZNAME:CDT
DTSTART:20230312T080000
END:DAYLIGHT
BEGIN:STANDARD
TZOFFSETFROM:-0500
TZOFFSETTO:-0600
TZNAME:CST
DTSTART:20231105T070000
END:STANDARD
BEGIN:DAYLIGHT
TZOFFSETFROM:-0600
TZOFFSETTO:-0500
TZNAME:CDT
DTSTART:20240310T080000
END:DAYLIGHT
BEGIN:STANDARD
TZOFFSETFROM:-0500
TZOFFSETTO:-0600
TZNAME:CST
DTSTART:20241103T070000
END:STANDARD
BEGIN:DAYLIGHT
TZOFFSETFROM:-0600
TZOFFSETTO:-0500
TZNAME:CDT
DTSTART:20250309T080000
END:DAYLIGHT
BEGIN:STANDARD
TZOFFSETFROM:-0500
TZOFFSETTO:-0600
TZNAME:CST
DTSTART:20251102T070000
END:STANDARD
END:VTIMEZONE
BEGIN:VEVENT
DTSTART;TZID=America/Chicago:20241112T183000
DTEND;TZID=America/Chicago:20241112T203000
DTSTAMP:20260423T064748
CREATED:20241106T154032Z
LAST-MODIFIED:20241106T154032Z
UID:13865-1731436200-1731443400@10kbrew.com
SUMMARY:Trivia Mafia: Grey's Anatomy
DESCRIPTION:Join us in the Taproom from 6:30-8:30 for all things Grey’s Anatomy! \nIT’S A BEAUTIFUL DAY TO PLAY TRIVIA \nIt’s tough going through your residency\, but do you know what’s even tougher than interning in a hospital? OK\, probably not many things. It’d be hard enough just to save lives at Seattle Grace Hospital\, but doing that while staying on the good side of the doctors and trying to have a life of your own? It can be overwhelming. \nSo take a break from the stress and join Trivia Mafia for “Grey’s Anatomy” trivia at select locations all throughout November! Take your surgical dream team and try to finish at the top of your class. It’s like studying for your boards\, except it’s fun! But not too much fun — this is a trivia night\, people. Serious work happens here. We get high scores here.
URL:https://10kbrew.com/event/trivia-mafia-greys-anatomy/
LOCATION:10K Brewing\, 2005 2nd Ave\, Anoka\, MN\, 55303\, US
CATEGORIES:Trivia
ATTACH;FMTTYPE=image/jpeg:https://10kbrew.com/wp-content/uploads/2024/11/TMGA2024Banner.jpg
END:VEVENT
END:VCALENDAR