BEGIN:VCALENDAR
VERSION:2.0
PRODID:-//10K Brewing - ECPv6.15.16//NONSGML v1.0//EN
CALSCALE:GREGORIAN
METHOD:PUBLISH
X-WR-CALNAME:10K Brewing
X-ORIGINAL-URL:https://10kbrew.com
X-WR-CALDESC:Events for 10K Brewing
REFRESH-INTERVAL;VALUE=DURATION:PT1H
X-Robots-Tag:noindex
X-PUBLISHED-TTL:PT1H
BEGIN:VTIMEZONE
TZID:America/Chicago
BEGIN:DAYLIGHT
TZOFFSETFROM:-0600
TZOFFSETTO:-0500
TZNAME:CDT
DTSTART:20230312T080000
END:DAYLIGHT
BEGIN:STANDARD
TZOFFSETFROM:-0500
TZOFFSETTO:-0600
TZNAME:CST
DTSTART:20231105T070000
END:STANDARD
BEGIN:DAYLIGHT
TZOFFSETFROM:-0600
TZOFFSETTO:-0500
TZNAME:CDT
DTSTART:20240310T080000
END:DAYLIGHT
BEGIN:STANDARD
TZOFFSETFROM:-0500
TZOFFSETTO:-0600
TZNAME:CST
DTSTART:20241103T070000
END:STANDARD
BEGIN:DAYLIGHT
TZOFFSETFROM:-0600
TZOFFSETTO:-0500
TZNAME:CDT
DTSTART:20250309T080000
END:DAYLIGHT
BEGIN:STANDARD
TZOFFSETFROM:-0500
TZOFFSETTO:-0600
TZNAME:CST
DTSTART:20251102T070000
END:STANDARD
END:VTIMEZONE
BEGIN:VEVENT
DTSTART;TZID=America/Chicago:20240704T150000
DTEND;TZID=America/Chicago:20240704T220000
DTSTAMP:20260424T082708
CREATED:20240624T155234Z
LAST-MODIFIED:20240624T155234Z
UID:13635-1720105200-1720130400@10kbrew.com
SUMMARY:OPEN: 4th of July!
DESCRIPTION:Happy 4th of July! Come have a beer with us from 3pm – 10pm. \nCheers!
URL:https://10kbrew.com/event/open-4th-of-july/
LOCATION:10K Brewing\, 2005 2nd Ave\, Anoka\, MN\, 55303\, US
CATEGORIES:Business Hours
ATTACH;FMTTYPE=image/jpeg:https://10kbrew.com/wp-content/uploads/2024/06/358072795_664314625739905_2490969236819860266_n.jpg
END:VEVENT
END:VCALENDAR