BEGIN:VCALENDAR
VERSION:2.0
PRODID:-//10K Brewing - ECPv6.15.16//NONSGML v1.0//EN
CALSCALE:GREGORIAN
METHOD:PUBLISH
X-ORIGINAL-URL:https://10kbrew.com
X-WR-CALDESC:Events for 10K Brewing
REFRESH-INTERVAL;VALUE=DURATION:PT1H
X-Robots-Tag:noindex
X-PUBLISHED-TTL:PT1H
BEGIN:VTIMEZONE
TZID:America/Chicago
BEGIN:DAYLIGHT
TZOFFSETFROM:-0600
TZOFFSETTO:-0500
TZNAME:CDT
DTSTART:20230312T080000
END:DAYLIGHT
BEGIN:STANDARD
TZOFFSETFROM:-0500
TZOFFSETTO:-0600
TZNAME:CST
DTSTART:20231105T070000
END:STANDARD
BEGIN:DAYLIGHT
TZOFFSETFROM:-0600
TZOFFSETTO:-0500
TZNAME:CDT
DTSTART:20240310T080000
END:DAYLIGHT
BEGIN:STANDARD
TZOFFSETFROM:-0500
TZOFFSETTO:-0600
TZNAME:CST
DTSTART:20241103T070000
END:STANDARD
BEGIN:DAYLIGHT
TZOFFSETFROM:-0600
TZOFFSETTO:-0500
TZNAME:CDT
DTSTART:20250309T080000
END:DAYLIGHT
BEGIN:STANDARD
TZOFFSETFROM:-0500
TZOFFSETTO:-0600
TZNAME:CST
DTSTART:20251102T070000
END:STANDARD
END:VTIMEZONE
BEGIN:VEVENT
DTSTART;TZID=America/Chicago:20240615T110000
DTEND;TZID=America/Chicago:20240615T140000
DTSTAMP:20260420T163423
CREATED:20240527T171908Z
LAST-MODIFIED:20240527T171908Z
UID:13608-1718449200-1718460000@10kbrew.com
SUMMARY:2024 MN Brewery Running Series
DESCRIPTION:We are the MN Brewery Running Series™ and we run for beer!\nJoin us for a fun run event at 10K Brewing on Saturday\, June 15th!\nWe’ve mapped out a 5k-ish and 10k-ish course to start and end at this awesome taproom in downtown Anoka. Run\, walk\, jog – whatever goes! All ages\, all levels are welcome. Complete the course and celebrate with us – enjoy a FREE\, local craft brew at the finish line.\nWhat’s included?! All participants receive:\n-A FREE craft brew from 10K Brewing\n-Choice of a collector’s pint glass or seasonal swag item from the Brewery Running Series\n-A chance to win sweet door prizes\, like Brewery Running Series merchandise or a growler to take home\n-Access to event festivities like live music\, games\, goodies and giveaways\n-And more!\n\n\nKeep an eye out – we will send you all final event details via email the week of this event and share anything else you might need to know. Check out our full line up at www.breweryrunningseries.com
URL:https://10kbrew.com/event/2024-mn-brewery-running-series/
LOCATION:10K Brewing\, 2005 2nd Ave\, Anoka\, MN\, 55303\, US
CATEGORIES:Sports
ATTACH;FMTTYPE=image/jpeg:https://10kbrew.com/wp-content/uploads/2024/05/https-cdn.evbuc_.com-images-715910629-161305150041-1-original.20240310-154813.jpeg
END:VEVENT
BEGIN:VEVENT
DTSTART;TZID=America/Chicago:20240615T110000
DTEND;TZID=America/Chicago:20240615T140000
DTSTAMP:20260420T163423
CREATED:20240605T183801Z
LAST-MODIFIED:20240924T195143Z
UID:13623-1718449200-1718460000@10kbrew.com
SUMMARY:FOOD TRUCK: Brisbane's Revenge
DESCRIPTION:“Join us on this flavorful adventure\, where every dish carries the essence of my culinary journey\, and let’s create memorable moments together\, one delicious bite at a time.”
URL:https://10kbrew.com/event/food-truck-brisbanes-revenge-2/
LOCATION:10K Brewing\, 2005 2nd Ave\, Anoka\, MN\, 55303\, US
CATEGORIES:Food Truck
ATTACH;FMTTYPE=image/webp:https://10kbrew.com/wp-content/uploads/2024/03/8a30dc_7880f947cf054077aed875de033a6592mv2.png.webp
END:VEVENT
BEGIN:VEVENT
DTSTART;TZID=America/Chicago:20240615T190000
DTEND;TZID=America/Chicago:20240615T220000
DTSTAMP:20260420T163423
CREATED:20240527T171538Z
LAST-MODIFIED:20240527T171630Z
UID:13607-1718478000-1718488800@10kbrew.com
SUMMARY:Live Music: Betty Danger
DESCRIPTION:Betty Danger is back in Minnesota and back in the Taproom at 10K Brewing! Stop by for a night of Nice Music & Nice Beer!
URL:https://10kbrew.com/event/live-music-betty-danger-5/
LOCATION:10K Brewing\, 2005 2nd Ave\, Anoka\, MN\, 55303\, US
CATEGORIES:Live Music
ATTACH;FMTTYPE=image/jpeg:https://10kbrew.com/wp-content/uploads/2022/06/260805157_262135412565324_4661954647587915139_n.jpg
END:VEVENT
END:VCALENDAR